BEGIN:VCALENDAR
VERSION:2.0
PRODID:-//GOCE - ECPv6.15.17.1//NONSGML v1.0//EN
CALSCALE:GREGORIAN
METHOD:PUBLISH
X-ORIGINAL-URL:https://www.oir-goce.org
X-WR-CALDESC:Évènements pour GOCE
REFRESH-INTERVAL;VALUE=DURATION:PT1H
X-Robots-Tag:noindex
X-PUBLISHED-TTL:PT1H
BEGIN:VTIMEZONE
TZID:Europe/Paris
BEGIN:DAYLIGHT
TZOFFSETFROM:+0100
TZOFFSETTO:+0200
TZNAME:CEST
DTSTART:20250330T010000
END:DAYLIGHT
BEGIN:STANDARD
TZOFFSETFROM:+0200
TZOFFSETTO:+0100
TZNAME:CET
DTSTART:20251026T010000
END:STANDARD
BEGIN:DAYLIGHT
TZOFFSETFROM:+0100
TZOFFSETTO:+0200
TZNAME:CEST
DTSTART:20260329T010000
END:DAYLIGHT
BEGIN:STANDARD
TZOFFSETFROM:+0200
TZOFFSETTO:+0100
TZNAME:CET
DTSTART:20261025T010000
END:STANDARD
BEGIN:DAYLIGHT
TZOFFSETFROM:+0100
TZOFFSETTO:+0200
TZNAME:CEST
DTSTART:20270328T010000
END:DAYLIGHT
BEGIN:STANDARD
TZOFFSETFROM:+0200
TZOFFSETTO:+0100
TZNAME:CET
DTSTART:20271031T010000
END:STANDARD
END:VTIMEZONE
BEGIN:VEVENT
DTSTART;TZID=Europe/Paris:20261006T143000
DTEND;TZID=Europe/Paris:20261006T160000
DTSTAMP:20260424T102003
CREATED:20251208T124351Z
LAST-MODIFIED:20251208T124729Z
UID:16004-1791297000-1791302400@www.oir-goce.org
SUMMARY:GT pharmaciens
DESCRIPTION:Réunion en visioconférence du groupe de travail des pharmaciens : \n\nObjet de la réunion :  Partage d’expérience. Ordre du jour fixé 3 semaines avant les réunions\nDates 2026 à venir : 01 décembre 2026\nLien zoom :https://zoom.us/j/95461896549?pwd=fc4wd43RSayiw6gPlIB4lbass7FZrs.1\nAccès aux compte-rendu de réunions : https://extranet.chu-hugo.fr/index.php/s/ioFJY679CiFi52y\nParticipants : sur invitation\, membres du groupe de travail.\n\nSi vous souhaitez rejoindre le groupe de travail contactez Emilie Gislier\, cheffe de projet GOCE (emilie.gislier@chu-angers.fr).
URL:https://www.oir-goce.org/event/gt-pharmaciens-9/
CATEGORIES:Groupe de travail
END:VEVENT
BEGIN:VEVENT
DTSTART;TZID=Europe/Paris:20261201T143000
DTEND;TZID=Europe/Paris:20261201T160000
DTSTAMP:20260424T102003
CREATED:20251208T124904Z
LAST-MODIFIED:20251208T124904Z
UID:16011-1796135400-1796140800@www.oir-goce.org
SUMMARY:GT pharmaciens
DESCRIPTION:Réunion en visioconférence du groupe de travail des pharmaciens : \n\nObjet de la réunion :  Partage d’expérience. Ordre du jour fixé 3 semaines avant les réunions\nDates 2027 à venir : à définir\nLien zoom :https://zoom.us/j/95461896549?pwd=fc4wd43RSayiw6gPlIB4lbass7FZrs.1\nAccès aux compte-rendu de réunions : https://extranet.chu-hugo.fr/index.php/s/ioFJY679CiFi52y\nParticipants : sur invitation\, membres du groupe de travail.\n\nSi vous souhaitez rejoindre le groupe de travail contactez Emilie Gislier\, cheffe de projet GOCE (emilie.gislier@chu-angers.fr).
URL:https://www.oir-goce.org/event/gt-pharmaciens-10/
CATEGORIES:Groupe de travail
END:VEVENT
END:VCALENDAR