BEGIN:VCALENDAR
VERSION:2.0
PRODID:-//GOCE - ECPv6.15.17.1//NONSGML v1.0//EN
CALSCALE:GREGORIAN
METHOD:PUBLISH
X-ORIGINAL-URL:https://www.oir-goce.org
X-WR-CALDESC:Évènements pour GOCE
REFRESH-INTERVAL;VALUE=DURATION:PT1H
X-Robots-Tag:noindex
X-PUBLISHED-TTL:PT1H
BEGIN:VTIMEZONE
TZID:Europe/Paris
BEGIN:DAYLIGHT
TZOFFSETFROM:+0100
TZOFFSETTO:+0200
TZNAME:CEST
DTSTART:20230326T010000
END:DAYLIGHT
BEGIN:STANDARD
TZOFFSETFROM:+0200
TZOFFSETTO:+0100
TZNAME:CET
DTSTART:20231029T010000
END:STANDARD
BEGIN:DAYLIGHT
TZOFFSETFROM:+0100
TZOFFSETTO:+0200
TZNAME:CEST
DTSTART:20240331T010000
END:DAYLIGHT
BEGIN:STANDARD
TZOFFSETFROM:+0200
TZOFFSETTO:+0100
TZNAME:CET
DTSTART:20241027T010000
END:STANDARD
BEGIN:DAYLIGHT
TZOFFSETFROM:+0100
TZOFFSETTO:+0200
TZNAME:CEST
DTSTART:20250330T010000
END:DAYLIGHT
BEGIN:STANDARD
TZOFFSETFROM:+0200
TZOFFSETTO:+0100
TZNAME:CET
DTSTART:20251026T010000
END:STANDARD
END:VTIMEZONE
BEGIN:VEVENT
DTSTART;TZID=Europe/Paris:20241119T140000
DTEND;TZID=Europe/Paris:20241119T160000
DTSTAMP:20260425T162156
CREATED:20240229T133220Z
LAST-MODIFIED:20240229T133220Z
UID:14643-1732024800-1732032000@www.oir-goce.org
SUMMARY:GT pharmaciens
DESCRIPTION:Réunion en visioconférence du groupe de travail des pharmaciens \n\nObjet de la réunion :  Partage d’expérience. Ordre du jour fixé 3 semaines avant les réunions\nDates 2024  : 28 mai\, 10 septembre et 19 novembre 2024\nLien zoom : https://zoom.us/j/98348562337\nParticipants : sur invitation\, membres du groupe de travail.\n\nSi vous souhaitez rejoindre le groupe de travail contactez Emilie Gislier\, chef de projet GOCE (emilie.gislier@chu-angers.fr).
URL:https://www.oir-goce.org/event/gt-pharmaciens-3/
CATEGORIES:Groupe de travail
END:VEVENT
END:VCALENDAR