BEGIN:VCALENDAR
VERSION:2.0
PRODID:-//GOCE - ECPv6.15.17.1//NONSGML v1.0//EN
CALSCALE:GREGORIAN
METHOD:PUBLISH
X-ORIGINAL-URL:https://www.oir-goce.org
X-WR-CALDESC:Évènements pour GOCE
REFRESH-INTERVAL;VALUE=DURATION:PT1H
X-Robots-Tag:noindex
X-PUBLISHED-TTL:PT1H
BEGIN:VTIMEZONE
TZID:Europe/Paris
BEGIN:DAYLIGHT
TZOFFSETFROM:+0100
TZOFFSETTO:+0200
TZNAME:CEST
DTSTART:20230326T010000
END:DAYLIGHT
BEGIN:STANDARD
TZOFFSETFROM:+0200
TZOFFSETTO:+0100
TZNAME:CET
DTSTART:20231029T010000
END:STANDARD
BEGIN:DAYLIGHT
TZOFFSETFROM:+0100
TZOFFSETTO:+0200
TZNAME:CEST
DTSTART:20240331T010000
END:DAYLIGHT
BEGIN:STANDARD
TZOFFSETFROM:+0200
TZOFFSETTO:+0100
TZNAME:CET
DTSTART:20241027T010000
END:STANDARD
BEGIN:DAYLIGHT
TZOFFSETFROM:+0100
TZOFFSETTO:+0200
TZNAME:CEST
DTSTART:20250330T010000
END:DAYLIGHT
BEGIN:STANDARD
TZOFFSETFROM:+0200
TZOFFSETTO:+0100
TZNAME:CET
DTSTART:20251026T010000
END:STANDARD
END:VTIMEZONE
BEGIN:VEVENT
DTSTART;TZID=Europe/Paris:20240409T150000
DTEND;TZID=Europe/Paris:20240409T170000
DTSTAMP:20260426T012342
CREATED:20240408T130933Z
LAST-MODIFIED:20240408T131047Z
UID:14854-1712674800-1712682000@www.oir-goce.org
SUMMARY:GT Recherche régionale
DESCRIPTION:Réunion en visioconférence du groupe de recherche régionale : \n\nThème de la réunion :  Leucémie Aigüe Lymphoblastique.\n\nAudrey Grain\, du CHU de Nantes\, présentera le point de vue clinique avec une intervention sur  la prise en charge actuelle des LAL pédiatriques \nCharline Miot\, de l’université d’Angers\, complètera l’intervention avec un topo sur le rôle des protéines RAG et de la recombinaison VDJ dans l’ontogenèse lymphoïde. \n\nDate : 09 avril 2024 de 15h à 17h\nLien zoom : https://zoom.us/j/97509654460\nParticipants : sur invitation\, membres du groupe de travail.\n\nSi vous souhaitez rejoindre le groupe de travail contactez Emilie Gislier\, chef de projet GOCE (emilie.gislier@chu-angers.fr).
URL:https://www.oir-goce.org/event/gt-recherche-regionale/
CATEGORIES:Recherche
END:VEVENT
END:VCALENDAR