BEGIN:VCALENDAR
VERSION:2.0
PRODID:-//GOCE - ECPv6.15.17.1//NONSGML v1.0//EN
CALSCALE:GREGORIAN
METHOD:PUBLISH
X-WR-CALNAME:GOCE
X-ORIGINAL-URL:https://www.oir-goce.org
X-WR-CALDESC:Évènements pour GOCE
REFRESH-INTERVAL;VALUE=DURATION:PT1H
X-Robots-Tag:noindex
X-PUBLISHED-TTL:PT1H
BEGIN:VTIMEZONE
TZID:Europe/Paris
BEGIN:DAYLIGHT
TZOFFSETFROM:+0100
TZOFFSETTO:+0200
TZNAME:CEST
DTSTART:20230326T010000
END:DAYLIGHT
BEGIN:STANDARD
TZOFFSETFROM:+0200
TZOFFSETTO:+0100
TZNAME:CET
DTSTART:20231029T010000
END:STANDARD
BEGIN:DAYLIGHT
TZOFFSETFROM:+0100
TZOFFSETTO:+0200
TZNAME:CEST
DTSTART:20240331T010000
END:DAYLIGHT
BEGIN:STANDARD
TZOFFSETFROM:+0200
TZOFFSETTO:+0100
TZNAME:CET
DTSTART:20241027T010000
END:STANDARD
BEGIN:DAYLIGHT
TZOFFSETFROM:+0100
TZOFFSETTO:+0200
TZNAME:CEST
DTSTART:20250330T010000
END:DAYLIGHT
BEGIN:STANDARD
TZOFFSETFROM:+0200
TZOFFSETTO:+0100
TZNAME:CET
DTSTART:20251026T010000
END:STANDARD
END:VTIMEZONE
BEGIN:VEVENT
DTSTART;TZID=Europe/Paris:20240918T090000
DTEND;TZID=Europe/Paris:20240918T173000
DTSTAMP:20260420T231439
CREATED:20240403T142330Z
LAST-MODIFIED:20240527T120546Z
UID:14851-1726650000-1726680600@www.oir-goce.org
SUMMARY:Journée de simulation à l'annonce - Caen
DESCRIPTION:Formation à l’annonce par méthode de simulation dispensé par Norsims pour les internes d’Oncopédiatrie de GOCE des centres de Brest\, Caen\, Rennes et Rouen. \nFormation accessible sur nomination uniquement \nProgramme : https://extranet.chu-hugo.fr/index.php/s/kRwKrJyDftTSLg6 \nAccès : https://norsims.unicaen.fr/contact-et-acces/ \nParking : https://www.chu-caen.fr/informations-pratiques/#stationnement \n  \n  \n  \n 
URL:https://www.oir-goce.org/event/journee-de-simulation-a-lannonce-caen-2/
LOCATION:CHU Caen\, Avenue de la Côte de Nacre\, Caen\, 14033\, France
CATEGORIES:Annonce par simulation,Formation
ORGANIZER;CN="Dr Damien Bodet":MAILTO:bodet-d@chu-caen.fr
END:VEVENT
BEGIN:VEVENT
DTSTART;TZID=Europe/Paris:20240924T090000
DTEND;TZID=Europe/Paris:20240924T173000
DTSTAMP:20260420T231439
CREATED:20240422T144311Z
LAST-MODIFIED:20240422T144709Z
UID:14880-1727168400-1727199000@www.oir-goce.org
SUMMARY:Journée de simulation à l'annonce - Angers
DESCRIPTION:Formation à l’annonce par méthode de simulation dispensé par All’Sims pour les internes d’Oncopédiatrie de GOCE des centres d’Angers\, Nantes et Tours. \nFormation accessible sur nomination uniquement \nProgramme : https://extranet.chu-hugo.fr/index.php/s/K34A8aB8Lyy3CkH \nAccès : https://www.all-sims.fr/contact/
URL:https://www.oir-goce.org/event/journee-de-simulation-a-lannonce-angers/
LOCATION:CHU Angers\, 4 rue Larrey\, Angers\, 49000\, France
CATEGORIES:Annonce par simulation
END:VEVENT
END:VCALENDAR