BEGIN:VCALENDAR
VERSION:2.0
PRODID:-//GOCE - ECPv6.15.17.1//NONSGML v1.0//EN
CALSCALE:GREGORIAN
METHOD:PUBLISH
X-WR-CALNAME:GOCE
X-ORIGINAL-URL:https://www.oir-goce.org
X-WR-CALDESC:Évènements pour GOCE
REFRESH-INTERVAL;VALUE=DURATION:PT1H
X-Robots-Tag:noindex
X-PUBLISHED-TTL:PT1H
BEGIN:VTIMEZONE
TZID:Europe/Paris
BEGIN:DAYLIGHT
TZOFFSETFROM:+0100
TZOFFSETTO:+0200
TZNAME:CEST
DTSTART:20230326T010000
END:DAYLIGHT
BEGIN:STANDARD
TZOFFSETFROM:+0200
TZOFFSETTO:+0100
TZNAME:CET
DTSTART:20231029T010000
END:STANDARD
BEGIN:DAYLIGHT
TZOFFSETFROM:+0100
TZOFFSETTO:+0200
TZNAME:CEST
DTSTART:20240331T010000
END:DAYLIGHT
BEGIN:STANDARD
TZOFFSETFROM:+0200
TZOFFSETTO:+0100
TZNAME:CET
DTSTART:20241027T010000
END:STANDARD
BEGIN:DAYLIGHT
TZOFFSETFROM:+0100
TZOFFSETTO:+0200
TZNAME:CEST
DTSTART:20250330T010000
END:DAYLIGHT
BEGIN:STANDARD
TZOFFSETFROM:+0200
TZOFFSETTO:+0100
TZNAME:CET
DTSTART:20251026T010000
END:STANDARD
END:VTIMEZONE
BEGIN:VEVENT
DTSTART;TZID=Europe/Paris:20240617T143000
DTEND;TZID=Europe/Paris:20240617T160000
DTSTAMP:20260421T050203
CREATED:20240424T155752Z
LAST-MODIFIED:20240425T112534Z
UID:14912-1718634600-1718640000@www.oir-goce.org
SUMMARY:Formation paramédicale
DESCRIPTION:  Formation soignants \nLe 17 juin 2024 de 14H30 à 16H00 \nPROGRAMME : le suivi à long termeProgramme formation soignants juin 2024 \n  \n\n\n\n  \n\nDe 14h30 à 15h : Dr Charlotte Demoor-Goldschmidt\nDe 15h à 15h30 : Expérience de Brest : les colliers de perle\, témoignage des parcours de soins de l’enfant en oncologie pédiatrique\n15h30 à 16h : les parcours de soins au sein de GOCE ; Emilie Gislier\, chargée de projet GOCE\n\n 
URL:https://www.oir-goce.org/event/formation-paramedicale/
CATEGORIES:Paramédicaux
END:VEVENT
BEGIN:VEVENT
DTSTART;TZID=Europe/Paris:20240619T100000
DTEND;TZID=Europe/Paris:20240619T170000
DTSTAMP:20260421T050203
CREATED:20240226T100517Z
LAST-MODIFIED:20240424T115327Z
UID:14565-1718791200-1718816400@www.oir-goce.org
SUMMARY:Séminaire manager : Démarche participative
DESCRIPTION:Séminaire réunissant les chefs de service et cadres de santé des unités d’oncohématologie pédiatrique du GOCE pour une sensibilisation à la démarche participative. \n\nObjet de la réunion : Echanges autour des  pratiques d’organisation des services\, présentation des bénéfices de la démarche participative comme leviers de management et de Qualité de vie au travail.\nOrganisation : Animation de la journée assurée par Aquavies.\nPré-programme : https://extranet.chu-hugo.fr/index.php/s/XcjjY5eqGgDEjQ9\nDate : 19 juin 10h-17h\nLieu : Ibis Nantes Centre Gare Sud\, 3 allée Baco\, Nantes\nParticipants : chefs de service et cadres de santé sur invitation\, membres du groupe de travail.
URL:https://www.oir-goce.org/event/seminaire-manager-demarche-participative/
LOCATION:IBIS Nantes gare sud\, 3 allée Baco\, Nantes\, 44000
CATEGORIES:Formation
END:VEVENT
BEGIN:VEVENT
DTSTART;TZID=Europe/Paris:20240626T090000
DTEND;TZID=Europe/Paris:20240626T173000
DTSTAMP:20260421T050203
CREATED:20240403T142234Z
LAST-MODIFIED:20240527T120728Z
UID:14849-1719392400-1719423000@www.oir-goce.org
SUMMARY:Journée de simulation à l'annonce - Caen
DESCRIPTION:Formation à l’annonce par méthode de simulation dispensé par Norsims pour les internes d’Oncopédiatrie de GOCE des centres de Brest\, Caen\, Rennes et Rouen. \nFormation accessible sur nomination uniquement \nProgramme : https://extranet.chu-hugo.fr/index.php/s/kRwKrJyDftTSLg6 \nAccès : https://norsims.unicaen.fr/contact-et-acces/ \nParking : https://www.chu-caen.fr/informations-pratiques/#stationnement \n  \n  \n  \n 
URL:https://www.oir-goce.org/event/journee-de-simulation-a-lannonce-caen/
LOCATION:CHU Caen\, Avenue de la Côte de Nacre\, Caen\, 14033\, France
CATEGORIES:Annonce par simulation,Formation
ORGANIZER;CN="Dr Damien Bodet":MAILTO:bodet-d@chu-caen.fr
END:VEVENT
END:VCALENDAR