BEGIN:VCALENDAR
VERSION:2.0
PRODID:-//GOCE - ECPv6.15.17.1//NONSGML v1.0//EN
CALSCALE:GREGORIAN
METHOD:PUBLISH
X-WR-CALNAME:GOCE
X-ORIGINAL-URL:https://www.oir-goce.org
X-WR-CALDESC:Évènements pour GOCE
REFRESH-INTERVAL;VALUE=DURATION:PT1H
X-Robots-Tag:noindex
X-PUBLISHED-TTL:PT1H
BEGIN:VTIMEZONE
TZID:Europe/Paris
BEGIN:DAYLIGHT
TZOFFSETFROM:+0100
TZOFFSETTO:+0200
TZNAME:CEST
DTSTART:20230326T010000
END:DAYLIGHT
BEGIN:STANDARD
TZOFFSETFROM:+0200
TZOFFSETTO:+0100
TZNAME:CET
DTSTART:20231029T010000
END:STANDARD
BEGIN:DAYLIGHT
TZOFFSETFROM:+0100
TZOFFSETTO:+0200
TZNAME:CEST
DTSTART:20240331T010000
END:DAYLIGHT
BEGIN:STANDARD
TZOFFSETFROM:+0200
TZOFFSETTO:+0100
TZNAME:CET
DTSTART:20241027T010000
END:STANDARD
BEGIN:DAYLIGHT
TZOFFSETFROM:+0100
TZOFFSETTO:+0200
TZNAME:CEST
DTSTART:20250330T010000
END:DAYLIGHT
BEGIN:STANDARD
TZOFFSETFROM:+0200
TZOFFSETTO:+0100
TZNAME:CET
DTSTART:20251026T010000
END:STANDARD
END:VTIMEZONE
BEGIN:VEVENT
DTSTART;TZID=Europe/Paris:20240516T090000
DTEND;TZID=Europe/Paris:20240516T170000
DTSTAMP:20260421T064224
CREATED:20240202T103052Z
LAST-MODIFIED:20240226T134413Z
UID:14483-1715850000-1715878800@www.oir-goce.org
SUMMARY:Journée nationale de simulation à l'annonce
DESCRIPTION:Journée nationale de formation à l’annonce des internes inscrits en formation spécialisée transversale (FST) cancérologie \nLieu : centre de simulation All’Sims du CHU d’Angers \nProgramme : https://extranet.chu-hugo.fr/index.php/s/9Sp7XFiNjNrQKXJ \nAccès : https://www.all-sims.fr/contact/
URL:https://www.oir-goce.org/event/journee-nationale-de-simulation-a-lannonce-2/
LOCATION:CHU Angers\, 4 rue Larrey\, Angers\, 49000\, France
CATEGORIES:Annonce par simulation,Formation
END:VEVENT
END:VCALENDAR