BEGIN:VCALENDAR
VERSION:2.0
PRODID:-//GOCE - ECPv6.15.17.1//NONSGML v1.0//EN
CALSCALE:GREGORIAN
METHOD:PUBLISH
X-ORIGINAL-URL:https://www.oir-goce.org
X-WR-CALDESC:Évènements pour GOCE
REFRESH-INTERVAL;VALUE=DURATION:PT1H
X-Robots-Tag:noindex
X-PUBLISHED-TTL:PT1H
BEGIN:VTIMEZONE
TZID:Europe/Paris
BEGIN:DAYLIGHT
TZOFFSETFROM:+0100
TZOFFSETTO:+0200
TZNAME:CEST
DTSTART:20230326T010000
END:DAYLIGHT
BEGIN:STANDARD
TZOFFSETFROM:+0200
TZOFFSETTO:+0100
TZNAME:CET
DTSTART:20231029T010000
END:STANDARD
BEGIN:DAYLIGHT
TZOFFSETFROM:+0100
TZOFFSETTO:+0200
TZNAME:CEST
DTSTART:20240331T010000
END:DAYLIGHT
BEGIN:STANDARD
TZOFFSETFROM:+0200
TZOFFSETTO:+0100
TZNAME:CET
DTSTART:20241027T010000
END:STANDARD
BEGIN:DAYLIGHT
TZOFFSETFROM:+0100
TZOFFSETTO:+0200
TZNAME:CEST
DTSTART:20250330T010000
END:DAYLIGHT
BEGIN:STANDARD
TZOFFSETFROM:+0200
TZOFFSETTO:+0100
TZNAME:CET
DTSTART:20251026T010000
END:STANDARD
END:VTIMEZONE
BEGIN:VEVENT
DTSTART;TZID=Europe/Paris:20240410T090000
DTEND;TZID=Europe/Paris:20240410T173000
DTSTAMP:20260421T083623
CREATED:20240112T142353Z
LAST-MODIFIED:20240226T134537Z
UID:14404-1712739600-1712770200@www.oir-goce.org
SUMMARY:Journée de simulation à l'annonce - Caen
DESCRIPTION:Formation à l’annonce par méthode de simulation dispensé par Norsims pour les internes d’Oncopédiatrie de GOCE des centres de Brest\, Caen\, Rennes et Rouen. \nFormation accessible sur nomination uniquement \nProgramme : https://extranet.chu-hugo.fr/index.php/s/4SjAWAwo2EQADWQ \nAccès : https://norsims.unicaen.fr/contact-et-acces/ \nParking : https://www.chu-caen.fr/informations-pratiques/#stationnement \n  \n  \n  \n 
URL:https://www.oir-goce.org/event/journees-de-simulation-a-lannonce-caen-2/
LOCATION:CHU Caen\, Avenue de la Côte de Nacre\, Caen\, 14033\, France
CATEGORIES:Annonce par simulation,Formation
END:VEVENT
BEGIN:VEVENT
DTSTART;TZID=Europe/Paris:20240411T090000
DTEND;TZID=Europe/Paris:20240411T173000
DTSTAMP:20260421T083623
CREATED:20240116T094322Z
LAST-MODIFIED:20240226T134508Z
UID:14434-1712826000-1712856600@www.oir-goce.org
SUMMARY:Journée de simulation à l'annonce - Angers
DESCRIPTION:Formation à l’annonce par méthode de simulation dispensé par All’Sims pour les internes d’Oncopédiatrie de GOCE des centres d’Angers\, Nantes et Tours. \nFormation accessible sur nomination uniquement \nProgramme : https://extranet.chu-hugo.fr/index.php/s/mECx4Qw2WZcPsA7 \nAccès : https://www.all-sims.fr/contact/ \n 
URL:https://www.oir-goce.org/event/journee-de-simulation-a-lannonce-chu-dangers/
LOCATION:CHU Angers\, 4 rue Larrey\, Angers\, 49000\, France
CATEGORIES:Annonce par simulation,Formation
END:VEVENT
BEGIN:VEVENT
DTSTART;TZID=Europe/Paris:20240416T143000
DTEND;TZID=Europe/Paris:20240416T160000
DTSTAMP:20260421T083623
CREATED:20240228T093427Z
LAST-MODIFIED:20240228T095513Z
UID:14607-1713277800-1713283200@www.oir-goce.org
SUMMARY:Formation soignants paramédicaux
DESCRIPTION:SAVE THE DATE \nProgramme : A venir sur https://extranet.chu-hugo.fr/index.php/s/sCPijiWDWKPEQ7Q \nLien de connexion( à venir ) \nPublic cible: paramédicaux\, intervenants extérieurs ( socio-esthéticiennes\, APA\, …)\, tout professionnel en lien avec les soins de support \nThématique: les soins de support en oncologie pédiatrique \nIntervenants: \nDr Marianna Deparis \nParamédicaux: Attente de réponses \nSi vous souhaitez plus d’informations sur les formations paramédicales\, contacter Sophie Laroche\, coordinatrice paramédicale GOCE
URL:https://www.oir-goce.org/event/formation-soignants-paramedicaux-3/
CATEGORIES:Formation,Paramédicaux
ORGANIZER;CN="Sophie  Laroche":MAILTO:laroche-so@chu-caen.fr
END:VEVENT
BEGIN:VEVENT
DTSTART;TZID=Europe/Paris:20240425T090000
DTEND;TZID=Europe/Paris:20240425T173000
DTSTAMP:20260421T083623
CREATED:20240116T094747Z
LAST-MODIFIED:20240424T115505Z
UID:14439-1714035600-1714066200@www.oir-goce.org
SUMMARY:Journée de simulation à l'annonce - Angers
DESCRIPTION:Formation à l’annonce par méthode de simulation dispensé par All’Sims pour les internes d’Oncopédiatrie de GOCE des centres d’Angers\, Nantes et Tours. \nFormation accessible sur nomination uniquement \nProgramme : https://extranet.chu-hugo.fr/index.php/s/mECx4Qw2WZcPsA7 \nAccès : https://www.all-sims.fr/contact/ \n  \n 
URL:https://www.oir-goce.org/event/journee-de-simulation-a-lannonce-chu-dangers-2/
LOCATION:CHU Angers\, 4 rue Larrey\, Angers\, 49000\, France
CATEGORIES:Annonce par simulation,Formation
END:VEVENT
END:VCALENDAR