BEGIN:VCALENDAR
VERSION:2.0
PRODID:-//GOCE - ECPv6.15.17.1//NONSGML v1.0//EN
CALSCALE:GREGORIAN
METHOD:PUBLISH
X-ORIGINAL-URL:https://www.oir-goce.org
X-WR-CALDESC:Évènements pour GOCE
REFRESH-INTERVAL;VALUE=DURATION:PT1H
X-Robots-Tag:noindex
X-PUBLISHED-TTL:PT1H
BEGIN:VTIMEZONE
TZID:Europe/Paris
BEGIN:DAYLIGHT
TZOFFSETFROM:+0100
TZOFFSETTO:+0200
TZNAME:CEST
DTSTART:20230326T010000
END:DAYLIGHT
BEGIN:STANDARD
TZOFFSETFROM:+0200
TZOFFSETTO:+0100
TZNAME:CET
DTSTART:20231029T010000
END:STANDARD
BEGIN:DAYLIGHT
TZOFFSETFROM:+0100
TZOFFSETTO:+0200
TZNAME:CEST
DTSTART:20240331T010000
END:DAYLIGHT
BEGIN:STANDARD
TZOFFSETFROM:+0200
TZOFFSETTO:+0100
TZNAME:CET
DTSTART:20241027T010000
END:STANDARD
BEGIN:DAYLIGHT
TZOFFSETFROM:+0100
TZOFFSETTO:+0200
TZNAME:CEST
DTSTART:20250330T010000
END:DAYLIGHT
BEGIN:STANDARD
TZOFFSETFROM:+0200
TZOFFSETTO:+0100
TZNAME:CET
DTSTART:20251026T010000
END:STANDARD
END:VTIMEZONE
BEGIN:VEVENT
DTSTART;TZID=Europe/Paris:20240202T090000
DTEND;TZID=Europe/Paris:20240202T170000
DTSTAMP:20260423T115539
CREATED:20240202T102639Z
LAST-MODIFIED:20240226T140800Z
UID:14479-1706864400-1706893200@www.oir-goce.org
SUMMARY:Journée nationale de simulation à l'annonce
DESCRIPTION:Journée nationale de formation à l’annonce des internes inscrits en formation spécialisée transversale (FST) cancérologie \nLieu : centre de simulation All’Sims du CHU d’Angers \nProgramme : https://extranet.chu-hugo.fr/index.php/apps/files/files?dir=/GOCE/SITE%20INTERNET%20(CR%2C%20pr%C3%A9sentation%20projets%2C%20mb%20grp…)/4_ENSEIGNEMENT/7_Journ%C3%A9es%20nationales%20de%20simulation%20%C3%A0%20l%27annonce&openfile=258058 \nAccès : https://www.all-sims.fr/contact/
URL:https://www.oir-goce.org/event/journee-nationale-de-simulation-a-lannonce/
LOCATION:CHU Angers\, 4 rue Larrey\, Angers\, 49000\, France
CATEGORIES:Annonce par simulation,Formation
END:VEVENT
BEGIN:VEVENT
DTSTART;TZID=Europe/Paris:20240202T091500
DTEND;TZID=Europe/Paris:20240202T170000
DTSTAMP:20260423T115539
CREATED:20240118T085653Z
LAST-MODIFIED:20240226T140951Z
UID:14442-1706865300-1706893200@www.oir-goce.org
SUMMARY:Journée des PH
DESCRIPTION:Thème : Communication en situation difficile auprès des patients\, des familles ou des équipes  \nLieu : salle de simulation\, RdJ hôpital Sud\, CHU Rennes \nDate : Le 2 février 2024 de 9h15 à 17h00 \nJournée réservée au PH sur nomination par le bureau GOCE \nMises en situation simulées animées par 2 intervenants « d’Acte Sept »\, une agence conseil en communication parlée\, le tout parrainé par le laboratoire Chugaï et le soutien actif et persévérant de Mme Massias \n6- 8 praticiens hospitaliers max \n  \n 
URL:https://www.oir-goce.org/event/journee-des-ph/
LOCATION:CHU Rennes – Hopital Sud\, 16 boulevrard Bulgaries\, Rennes\, 35203\, France
CATEGORIES:Formation
END:VEVENT
BEGIN:VEVENT
DTSTART;TZID=Europe/Paris:20240207T090000
DTEND;TZID=Europe/Paris:20240207T173000
DTSTAMP:20260423T115539
CREATED:20240112T142232Z
LAST-MODIFIED:20240226T140652Z
UID:14402-1707296400-1707327000@www.oir-goce.org
SUMMARY:Journées de simulation à l'annonce - Caen
DESCRIPTION:Formation à l’annonce par méthode de simulation dispensé par Norsims pour les internes d’Oncopédiatrie de GOCE des centres de Brest\, Caen\, Rennes et Rouen. \nFormation accessible sur nomination uniquement \nProgramme : https://extranet.chu-hugo.fr/index.php/s/4SjAWAwo2EQADWQ \nAccès : https://norsims.unicaen.fr/contact-et-acces/ \nParking : https://www.chu-caen.fr/informations-pratiques/#stationnement \n 
URL:https://www.oir-goce.org/event/journees-de-simulation-a-lannonce-caen/
LOCATION:CHU Caen\, Avenue de la Côte de Nacre\, Caen\, 14033\, France
CATEGORIES:Annonce par simulation,Formation
ORGANIZER;CN="Emilie Gislier":MAILTO:emilie.gislier@chu-angers.fr
END:VEVENT
BEGIN:VEVENT
DTSTART;TZID=Europe/Paris:20240213T170000
DTEND;TZID=Europe/Paris:20240213T190000
DTSTAMP:20260423T115539
CREATED:20240206T083017Z
LAST-MODIFIED:20240206T083017Z
UID:14490-1707843600-1707850800@www.oir-goce.org
SUMMARY:Best of ASH_Nimrod Buchbinder
DESCRIPTION:  \nLe Dr Nimrod Buchbinder vous propose un retour du congrès de l’American Society of Hematology 2023. \nLien zoom : https://zoom.us/j/98857025541 \nConférence ouverte à tous \n 
URL:https://www.oir-goce.org/event/best-of-ash_nimrod-buchbinder/
CATEGORIES:Formation
END:VEVENT
END:VCALENDAR